BEGIN:VCALENDAR
PRODID:-//PUBBLE//agenda//NL
VERSION:2.0
METHOD:PUBLISH
BEGIN:VEVENT
DTSTART:20260525T090000Z
DTEND:20260525T150000Z
DTSTAMP:20260423T233725Z
UID:811302cd-c687-406c-9c03-ed3d4305ccf3
CREATED:20260423T233725Z
NAME:Klederdrachtendag Westkapelle zva-online.nl
X-WR-CALNAME:Klederdrachtendag Westkapelle
X-ALT-DESC;FMTTYPE=text/html:<a href='/agenda/2026/5/25/klederdrachtendag-westkapelle-171182'>/agenda/2026/5/25/klederdrachtendag-westkapelle-171182</a> || <p>Het Polderhuis in Westkapelle wordt op maandag 25 mei omgetoverd tot het toneel van een bijzondere folkloredag. Trek je Zeeuwse klederdracht aan en sluit je aan bij het feestelijke gezelschap. Iedereen is welkom, ook als je geen traditionele outfit bezit!&nbsp;</p><p>Kom gerust op je ‘burgers’, versier jezelf met gitten of bloedkoralen, en bewonder de mooie historische outfits van jong en oud. Deze dag is er trouwens ook klederdracht te koop.</p><p>De organisatie heeft een gevarieerd programma samengesteld, zodat er voor ieder wat wils is en de tradities van Zeeland volop in de spotlight staan.</p><p>Programma 25 mei, 2e Pinksteren</p><p>11.00-12.00 &nbsp; &nbsp; &nbsp; &nbsp; Optreden Brassband OKK</p><p>11.00-16.30 &nbsp; &nbsp; &nbsp; &nbsp; Wafels bakken door OKK</p><p>11.00-16.30 &nbsp; &nbsp; &nbsp; &nbsp; Visrokerij van Belzen</p><p>11.00-16.30 &nbsp; &nbsp; &nbsp; &nbsp; Verkoop klederdracht</p><p>13.00-13.45 &nbsp; &nbsp; &nbsp; &nbsp; Presentatie klederdracht door Mooi Zeeland</p><p>13.45-14.00 &nbsp; &nbsp; &nbsp; &nbsp; Presentatie Paardenmes door Janneke Jacobs</p><p>14.00-14.30 &nbsp; &nbsp; &nbsp; &nbsp; Zeeuwse Quiz (met prijzen)</p><p>15.00-17.00 &nbsp; &nbsp; &nbsp; &nbsp; Zing maar mee&nbsp;</p>
DESCRIPTION:<a href='/agenda/2026/5/25/klederdrachtendag-westkapelle-171182'>/agenda/2026/5/25/klederdrachtendag-westkapelle-171182</a> || <p>Het Polderhuis in Westkapelle wordt op maandag 25 mei omgetoverd tot het toneel van een bijzondere folkloredag. Trek je Zeeuwse klederdracht aan en sluit je aan bij het feestelijke gezelschap. Iedereen is welkom, ook als je geen traditionele outfit bezit!&nbsp;</p><p>Kom gerust op je ‘burgers’, versier jezelf met gitten of bloedkoralen, en bewonder de mooie historische outfits van jong en oud. Deze dag is er trouwens ook klederdracht te koop.</p><p>De organisatie heeft een gevarieerd programma samengesteld, zodat er voor ieder wat wils is en de tradities van Zeeland volop in de spotlight staan.</p><p>Programma 25 mei, 2e Pinksteren</p><p>11.00-12.00 &nbsp; &nbsp; &nbsp; &nbsp; Optreden Brassband OKK</p><p>11.00-16.30 &nbsp; &nbsp; &nbsp; &nbsp; Wafels bakken door OKK</p><p>11.00-16.30 &nbsp; &nbsp; &nbsp; &nbsp; Visrokerij van Belzen</p><p>11.00-16.30 &nbsp; &nbsp; &nbsp; &nbsp; Verkoop klederdracht</p><p>13.00-13.45 &nbsp; &nbsp; &nbsp; &nbsp; Presentatie klederdracht door Mooi Zeeland</p><p>13.45-14.00 &nbsp; &nbsp; &nbsp; &nbsp; Presentatie Paardenmes door Janneke Jacobs</p><p>14.00-14.30 &nbsp; &nbsp; &nbsp; &nbsp; Zeeuwse Quiz (met prijzen)</p><p>15.00-17.00 &nbsp; &nbsp; &nbsp; &nbsp; Zing maar mee&nbsp;</p>
LAST-MODIFIED:20260423T233725Z
LOCATION: Polderhuis | Zuidstraat 154-156 Westkapelle
SEQUENCE:0
STATUS:CONFIRMED
SUMMARY:Klederdrachtendag Westkapelle
TRANSP:OPAQUE
END:VEVENT
END:VCALENDAR
